BEGIN:VCALENDAR
VERSION:2.0
PRODID:-//pretix//pretix-PROD_Wien//
BEGIN:VEVENT
UID:pretix-baeder-grossfeldsiedlung-72602@ticket.wien.gv.at
DTSTART;VALUE=DATE:20251012
DTEND;VALUE=DATE:20251013
DESCRIPTION:Tickets: https://ticket.wien.gv.at/baeder/grossfeldsiedlung/726
 02/\nVeranstalter: MA 44 Wiener Bäder
DTSTAMP:20260425T221728Z
SUMMARY:Badegäste So
END:VEVENT
END:VCALENDAR
