BEGIN:VCALENDAR
VERSION:2.0
PRODID:-//pretix//pretix-PROD_Wien//
BEGIN:VEVENT
UID:pretix-baeder-grossfeldsiedlung-72509@ticket.wien.gv.at
DTSTART;VALUE=DATE:20251009
DTEND;VALUE=DATE:20251010
DESCRIPTION:Tickets: https://ticket.wien.gv.at/baeder/grossfeldsiedlung/725
 09/\nVeranstalter: MA 44 Wiener Bäder
DTSTAMP:20260425T170915Z
SUMMARY:Badegäste Do.
END:VEVENT
END:VCALENDAR
