BEGIN:VCALENDAR
VERSION:2.0
PRODID:-//pretix//pretix-PROD_Wien//
BEGIN:VEVENT
UID:pretix-baeder-grossfeldsiedlung-72485@ticket.wien.gv.at
DTSTART;VALUE=DATE:20251008
DTEND;VALUE=DATE:20251009
DESCRIPTION:Tickets: https://ticket.wien.gv.at/baeder/grossfeldsiedlung/724
 85/\nVeranstalter: MA 44 Wiener Bäder
DTSTAMP:20260425T183636Z
SUMMARY:Badegäste Mi.
END:VEVENT
END:VCALENDAR
