BEGIN:VCALENDAR
VERSION:2.0
PRODID:-//pretix//pretix-PROD_Wien//
BEGIN:VEVENT
UID:pretix-baeder-grossfeldsiedlung-72464@ticket.wien.gv.at
DTSTART;VALUE=DATE:20251006
DTEND;VALUE=DATE:20251007
DESCRIPTION:Tickets: https://ticket.wien.gv.at/baeder/grossfeldsiedlung/724
 64/\nVeranstalter: MA 44 Wiener Bäder
DTSTAMP:20260425T201040Z
SUMMARY:Badegäste Mo.
END:VEVENT
END:VCALENDAR
