BEGIN:VCALENDAR
VERSION:2.0
PRODID:-//pretix//pretix-PROD_Wien//
BEGIN:VEVENT
UID:pretix-baeder-grossfeldsiedlung-72332@ticket.wien.gv.at
DTSTART;VALUE=DATE:20251005
DTEND;VALUE=DATE:20251006
DESCRIPTION:Tickets: https://ticket.wien.gv.at/baeder/grossfeldsiedlung/723
 32/\nVeranstalter: MA 44 Wiener Bäder
DTSTAMP:20260425T195229Z
SUMMARY:Badegäste So
END:VEVENT
END:VCALENDAR
