BEGIN:VCALENDAR
VERSION:2.0
PRODID:-//pretix//pretix-PROD_Wien//
BEGIN:VEVENT
UID:pretix-baeder-grossfeldsiedlung-7228@ticket.wien.gv.at
DTSTART;VALUE=DATE:20210922
DTEND;VALUE=DATE:20210923
DESCRIPTION:Tickets: https://ticket.wien.gv.at/baeder/grossfeldsiedlung/722
 8/\nVeranstalter: MA 44 Wiener Bäder
DTSTAMP:20260425T170823Z
SUMMARY:Eintritt Großfeldsiedlungsbad
END:VEVENT
END:VCALENDAR
