BEGIN:VCALENDAR
VERSION:2.0
PRODID:-//pretix//pretix-PROD_Wien//
BEGIN:VEVENT
UID:pretix-baeder-grossfeldsiedlung-7226@ticket.wien.gv.at
DTSTART;VALUE=DATE:20210921
DTEND;VALUE=DATE:20210922
DESCRIPTION:Tickets: https://ticket.wien.gv.at/baeder/grossfeldsiedlung/722
 6/\nVeranstalter: MA 44 Wiener Bäder
DTSTAMP:20260425T163444Z
SUMMARY:Eintritt Großfeldsiedlungsbad
END:VEVENT
END:VCALENDAR
