BEGIN:VCALENDAR
VERSION:2.0
PRODID:-//pretix//pretix-PROD_Wien//
BEGIN:VEVENT
UID:pretix-baeder-grossfeldsiedlung-72132@ticket.wien.gv.at
DTSTART;VALUE=DATE:20250925
DTEND;VALUE=DATE:20250926
DESCRIPTION:Tickets: https://ticket.wien.gv.at/baeder/grossfeldsiedlung/721
 32/\nVeranstalter: MA 44 Wiener Bäder
DTSTAMP:20260425T183623Z
SUMMARY:Badegäste Do.
END:VEVENT
END:VCALENDAR
