BEGIN:VCALENDAR
VERSION:2.0
PRODID:-//pretix//pretix-PROD_Wien//
BEGIN:VEVENT
UID:pretix-baeder-grossfeldsiedlung-71972@ticket.wien.gv.at
DTSTART;VALUE=DATE:20250921
DTEND;VALUE=DATE:20250922
DESCRIPTION:Tickets: https://ticket.wien.gv.at/baeder/grossfeldsiedlung/719
 72/\nVeranstalter: MA 44 Wiener Bäder
DTSTAMP:20260425T170827Z
SUMMARY:Badegäste So
END:VEVENT
END:VCALENDAR
