BEGIN:VCALENDAR
VERSION:2.0
PRODID:-//pretix//pretix-PROD_Wien//
BEGIN:VEVENT
UID:pretix-baeder-grossfeldsiedlung-71969@ticket.wien.gv.at
DTSTART;VALUE=DATE:20250918
DTEND;VALUE=DATE:20250919
DESCRIPTION:Tickets: https://ticket.wien.gv.at/baeder/grossfeldsiedlung/719
 69/\nVeranstalter: MA 44 Wiener Bäder
DTSTAMP:20260425T160929Z
SUMMARY:Badegäste Do.
END:VEVENT
END:VCALENDAR
