BEGIN:VCALENDAR
VERSION:2.0
PRODID:-//pretix//pretix-PROD_Wien//
BEGIN:VEVENT
UID:pretix-baeder-grossfeldsiedlung-71872@ticket.wien.gv.at
DTSTART;VALUE=DATE:20250915
DTEND;VALUE=DATE:20250916
DESCRIPTION:Tickets: https://ticket.wien.gv.at/baeder/grossfeldsiedlung/718
 72/\nVeranstalter: MA 44 Wiener Bäder
DTSTAMP:20260425T214241Z
SUMMARY:Badegäste Mo.
END:VEVENT
END:VCALENDAR
