BEGIN:VCALENDAR
VERSION:2.0
PRODID:-//pretix//pretix-PROD_Wien//
BEGIN:VEVENT
UID:pretix-baeder-grossfeldsiedlung-71824@ticket.wien.gv.at
DTSTART;VALUE=DATE:20250913
DTEND;VALUE=DATE:20250914
DESCRIPTION:Tickets: https://ticket.wien.gv.at/baeder/grossfeldsiedlung/718
 24/\nVeranstalter: MA 44 Wiener Bäder
DTSTAMP:20260425T170818Z
SUMMARY:Badegäste Freibad Mo-So
END:VEVENT
END:VCALENDAR
