BEGIN:VCALENDAR
VERSION:2.0
PRODID:-//pretix//pretix-PROD_Wien//
BEGIN:VEVENT
UID:pretix-baeder-grossfeldsiedlung-70272@ticket.wien.gv.at
DTSTART;VALUE=DATE:20250817
DTEND;VALUE=DATE:20250818
DESCRIPTION:Tickets: https://ticket.wien.gv.at/baeder/grossfeldsiedlung/702
 72/\nVeranstalter: MA 44 Wiener Bäder
DTSTAMP:20260425T195224Z
SUMMARY:Badegäste Freibad Mo-So
END:VEVENT
END:VCALENDAR
