BEGIN:VCALENDAR
VERSION:2.0
PRODID:-//pretix//pretix-PROD_Wien//
BEGIN:VEVENT
UID:pretix-baeder-grossfeldsiedlung-70248@ticket.wien.gv.at
DTSTART;VALUE=DATE:20250816
DTEND;VALUE=DATE:20250817
DESCRIPTION:Tickets: https://ticket.wien.gv.at/baeder/grossfeldsiedlung/702
 48/\nVeranstalter: MA 44 Wiener Bäder
DTSTAMP:20260425T195228Z
SUMMARY:Badegäste Freibad Mo-So
END:VEVENT
END:VCALENDAR
