BEGIN:VCALENDAR
VERSION:2.0
PRODID:-//pretix//pretix-PROD_Wien//
BEGIN:VEVENT
UID:pretix-baeder-grossfeldsiedlung-70206@ticket.wien.gv.at
DTSTART;VALUE=DATE:20250814
DTEND;VALUE=DATE:20250815
DESCRIPTION:Tickets: https://ticket.wien.gv.at/baeder/grossfeldsiedlung/702
 06/\nVeranstalter: MA 44 Wiener Bäder
DTSTAMP:20260425T201031Z
SUMMARY:Badegäste Freibad Mo-So
END:VEVENT
END:VCALENDAR
