BEGIN:VCALENDAR
VERSION:2.0
PRODID:-//pretix//pretix-PROD_Wien//
BEGIN:VEVENT
UID:pretix-baeder-grossfeldsiedlung-70146@ticket.wien.gv.at
DTSTART;VALUE=DATE:20250811
DTEND;VALUE=DATE:20250812
DESCRIPTION:Tickets: https://ticket.wien.gv.at/baeder/grossfeldsiedlung/701
 46/\nVeranstalter: MA 44 Wiener Bäder
DTSTAMP:20260425T165216Z
SUMMARY:Badegäste Freibad Mo-So
END:VEVENT
END:VCALENDAR
