BEGIN:VCALENDAR
VERSION:2.0
PRODID:-//pretix//pretix-PROD_Wien//
BEGIN:VEVENT
UID:pretix-baeder-grossfeldsiedlung-70105@ticket.wien.gv.at
DTSTART;VALUE=DATE:20250809
DTEND;VALUE=DATE:20250810
DESCRIPTION:Tickets: https://ticket.wien.gv.at/baeder/grossfeldsiedlung/701
 05/\nVeranstalter: MA 44 Wiener Bäder
DTSTAMP:20260425T183627Z
SUMMARY:Badegäste Freibad Mo-So
END:VEVENT
END:VCALENDAR
