BEGIN:VCALENDAR
VERSION:2.0
PRODID:-//pretix//pretix-PROD_Wien//
BEGIN:VEVENT
UID:pretix-baeder-grossfeldsiedlung-69782@ticket.wien.gv.at
DTSTART;VALUE=DATE:20250803
DTEND;VALUE=DATE:20250804
DESCRIPTION:Tickets: https://ticket.wien.gv.at/baeder/grossfeldsiedlung/697
 82/\nVeranstalter: MA 44 Wiener Bäder
DTSTAMP:20260425T205724Z
SUMMARY:Badegäste Freibad Mo-So
END:VEVENT
END:VCALENDAR
