BEGIN:VCALENDAR
VERSION:2.0
PRODID:-//pretix//pretix-PROD_Wien//
BEGIN:VEVENT
UID:pretix-baeder-grossfeldsiedlung-69029@ticket.wien.gv.at
DTSTART;VALUE=DATE:20250720
DTEND;VALUE=DATE:20250721
DESCRIPTION:Tickets: https://ticket.wien.gv.at/baeder/grossfeldsiedlung/690
 29/\nVeranstalter: MA 44 Wiener Bäder
DTSTAMP:20260425T193519Z
SUMMARY:Badegäste Freibad Mo-So
END:VEVENT
END:VCALENDAR
