BEGIN:VCALENDAR
VERSION:2.0
PRODID:-//pretix//pretix-PROD_Wien//
BEGIN:VEVENT
UID:pretix-baeder-grossfeldsiedlung-68872@ticket.wien.gv.at
DTSTART;VALUE=DATE:20250714
DTEND;VALUE=DATE:20250715
DESCRIPTION:Tickets: https://ticket.wien.gv.at/baeder/grossfeldsiedlung/688
 72/\nVeranstalter: MA 44 Wiener Bäder
DTSTAMP:20260425T201044Z
SUMMARY:Badegäste Freibad Mo-So
END:VEVENT
END:VCALENDAR
