BEGIN:VCALENDAR
VERSION:2.0
PRODID:-//pretix//pretix-PROD_Wien//
BEGIN:VEVENT
UID:pretix-baeder-grossfeldsiedlung-68678@ticket.wien.gv.at
DTSTART;VALUE=DATE:20250709
DTEND;VALUE=DATE:20250710
DESCRIPTION:Tickets: https://ticket.wien.gv.at/baeder/grossfeldsiedlung/686
 78/\nVeranstalter: MA 44 Wiener Bäder
DTSTAMP:20260425T185319Z
SUMMARY:Badegäste Freibad Mo-So
END:VEVENT
END:VCALENDAR
