BEGIN:VCALENDAR
VERSION:2.0
PRODID:-//pretix//pretix-PROD_Wien//
BEGIN:VEVENT
UID:pretix-baeder-grossfeldsiedlung-6857@ticket.wien.gv.at
DTSTART;VALUE=DATE:20210911
DTEND;VALUE=DATE:20210912
DESCRIPTION:Tickets: https://ticket.wien.gv.at/baeder/grossfeldsiedlung/685
 7/\nVeranstalter: MA 44 Wiener Bäder
DTSTAMP:20260425T183635Z
SUMMARY:Eintritt Großfeldsiedlungsbad
END:VEVENT
END:VCALENDAR
