BEGIN:VCALENDAR
VERSION:2.0
PRODID:-//pretix//pretix-PROD_Wien//
BEGIN:VEVENT
UID:pretix-baeder-grossfeldsiedlung-68409@ticket.wien.gv.at
DTSTART;VALUE=DATE:20250703
DTEND;VALUE=DATE:20250704
DESCRIPTION:Tickets: https://ticket.wien.gv.at/baeder/grossfeldsiedlung/684
 09/\nVeranstalter: MA 44 Wiener Bäder
DTSTAMP:20260425T201028Z
SUMMARY:Badegäste Freibad Mo-So
END:VEVENT
END:VCALENDAR
