BEGIN:VCALENDAR
VERSION:2.0
PRODID:-//pretix//pretix-PROD_Wien//
BEGIN:VEVENT
UID:pretix-baeder-grossfeldsiedlung-68283@ticket.wien.gv.at
DTSTART;VALUE=DATE:20250627
DTEND;VALUE=DATE:20250628
DESCRIPTION:Tickets: https://ticket.wien.gv.at/baeder/grossfeldsiedlung/682
 83/\nVeranstalter: MA 44 Wiener Bäder
DTSTAMP:20260425T160918Z
SUMMARY:Badegäste Freibad Mo-So
END:VEVENT
END:VCALENDAR
