BEGIN:VCALENDAR
VERSION:2.0
PRODID:-//pretix//pretix-PROD_Wien//
BEGIN:VEVENT
UID:pretix-baeder-grossfeldsiedlung-6813@ticket.wien.gv.at
DTSTART;VALUE=DATE:20210909
DTEND;VALUE=DATE:20210910
DESCRIPTION:Tickets: https://ticket.wien.gv.at/baeder/grossfeldsiedlung/681
 3/\nVeranstalter: MA 44 Wiener Bäder
DTSTAMP:20260425T215823Z
SUMMARY:Eintritt Großfeldsiedlungsbad
END:VEVENT
END:VCALENDAR
