BEGIN:VCALENDAR
VERSION:2.0
PRODID:-//pretix//pretix-PROD_Wien//
BEGIN:VEVENT
UID:pretix-baeder-grossfeldsiedlung-6725@ticket.wien.gv.at
DTSTART;VALUE=DATE:20210905
DTEND;VALUE=DATE:20210906
DESCRIPTION:Tickets: https://ticket.wien.gv.at/baeder/grossfeldsiedlung/672
 5/\nVeranstalter: MA 44 Wiener Bäder
DTSTAMP:20260425T183639Z
SUMMARY:Eintritt Großfeldsiedlungsbad
END:VEVENT
END:VCALENDAR
