BEGIN:VCALENDAR
VERSION:2.0
PRODID:-//pretix//pretix-PROD_Wien//
BEGIN:VEVENT
UID:pretix-baeder-grossfeldsiedlung-67147@ticket.wien.gv.at
DTSTART;VALUE=DATE:20250612
DTEND;VALUE=DATE:20250613
DESCRIPTION:Tickets: https://ticket.wien.gv.at/baeder/grossfeldsiedlung/671
 47/\nVeranstalter: MA 44 Wiener Bäder
DTSTAMP:20260425T185331Z
SUMMARY:Badegäste Freibad Mo-So
END:VEVENT
END:VCALENDAR
