BEGIN:VCALENDAR
VERSION:2.0
PRODID:-//pretix//pretix-PROD_Wien//
BEGIN:VEVENT
UID:pretix-baeder-grossfeldsiedlung-6701@ticket.wien.gv.at
DTSTART;VALUE=DATE:20210904
DTEND;VALUE=DATE:20210905
DESCRIPTION:Tickets: https://ticket.wien.gv.at/baeder/grossfeldsiedlung/670
 1/\nVeranstalter: MA 44 Wiener Bäder
DTSTAMP:20260425T214242Z
SUMMARY:Eintritt Großfeldsiedlungsbad
END:VEVENT
END:VCALENDAR
