BEGIN:VCALENDAR
VERSION:2.0
PRODID:-//pretix//pretix-PROD_Wien//
BEGIN:VEVENT
UID:pretix-baeder-grossfeldsiedlung-65467@ticket.wien.gv.at
DTSTART;VALUE=DATE:20250522
DTEND;VALUE=DATE:20250523
DESCRIPTION:Tickets: https://ticket.wien.gv.at/baeder/grossfeldsiedlung/654
 67/\nVeranstalter: MA 44 Wiener Bäder
DTSTAMP:20260425T183634Z
SUMMARY:Badegäste Freibad Mo-So
END:VEVENT
END:VCALENDAR
