BEGIN:VCALENDAR
VERSION:2.0
PRODID:-//pretix//pretix-PROD_Wien//
BEGIN:VEVENT
UID:pretix-baeder-grossfeldsiedlung-6527@ticket.wien.gv.at
DTSTART;VALUE=DATE:20210827
DTEND;VALUE=DATE:20210828
DESCRIPTION:Tickets: https://ticket.wien.gv.at/baeder/grossfeldsiedlung/652
 7/\nVeranstalter: MA 44 Wiener Bäder
DTSTAMP:20260425T165218Z
SUMMARY:Eintritt Großfeldsiedlungsbad
END:VEVENT
END:VCALENDAR
