BEGIN:VCALENDAR
VERSION:2.0
PRODID:-//pretix//pretix-PROD_Wien//
BEGIN:VEVENT
UID:pretix-baeder-grossfeldsiedlung-65217@ticket.wien.gv.at
DTSTART;VALUE=DATE:20250521
DTEND;VALUE=DATE:20250522
DESCRIPTION:Tickets: https://ticket.wien.gv.at/baeder/grossfeldsiedlung/652
 17/\nVeranstalter: MA 44 Wiener Bäder
DTSTAMP:20260425T201038Z
SUMMARY:Badegäste Freibad Mo-So
END:VEVENT
END:VCALENDAR
