BEGIN:VCALENDAR
VERSION:2.0
PRODID:-//pretix//pretix-PROD_Wien//
BEGIN:VEVENT
UID:pretix-baeder-grossfeldsiedlung-6462@ticket.wien.gv.at
DTSTART;VALUE=DATE:20210824
DTEND;VALUE=DATE:20210825
DESCRIPTION:Tickets: https://ticket.wien.gv.at/baeder/grossfeldsiedlung/646
 2/\nVeranstalter: MA 44 Wiener Bäder
DTSTAMP:20260425T163456Z
SUMMARY:Eintritt Großfeldsiedlungsbad
END:VEVENT
END:VCALENDAR
