BEGIN:VCALENDAR
VERSION:2.0
PRODID:-//pretix//pretix-PROD_Wien//
BEGIN:VEVENT
UID:pretix-baeder-grossfeldsiedlung-64559@ticket.wien.gv.at
DTSTART;VALUE=DATE:20250421
DTEND;VALUE=DATE:20250422
DESCRIPTION:Tickets: https://ticket.wien.gv.at/baeder/grossfeldsiedlung/645
 59/\nVeranstalter: MA 44 Wiener Bäder
DTSTAMP:20260425T225419Z
SUMMARY:Badegäste Ferien 21.04.2025
END:VEVENT
END:VCALENDAR
