BEGIN:VCALENDAR
VERSION:2.0
PRODID:-//pretix//pretix-PROD_Wien//
BEGIN:VEVENT
UID:pretix-baeder-grossfeldsiedlung-64446@ticket.wien.gv.at
DTSTART;VALUE=DATE:20250415
DTEND;VALUE=DATE:20250416
DESCRIPTION:Tickets: https://ticket.wien.gv.at/baeder/grossfeldsiedlung/644
 46/\nVeranstalter: MA 44 Wiener Bäder
DTSTAMP:20260425T214241Z
SUMMARY:Badegäste Ferien 15.04.2025
END:VEVENT
END:VCALENDAR
