BEGIN:VCALENDAR
VERSION:2.0
PRODID:-//pretix//pretix-PROD_Wien//
BEGIN:VEVENT
UID:pretix-baeder-grossfeldsiedlung-64441@ticket.wien.gv.at
DTSTART;VALUE=DATE:20250414
DTEND;VALUE=DATE:20250415
DESCRIPTION:Tickets: https://ticket.wien.gv.at/baeder/grossfeldsiedlung/644
 41/\nVeranstalter: MA 44 Wiener Bäder
DTSTAMP:20260425T170830Z
SUMMARY:Badegäste Ferien 14.04.2025
END:VEVENT
END:VCALENDAR
