BEGIN:VCALENDAR
VERSION:2.0
PRODID:-//pretix//pretix-PROD_Wien//
BEGIN:VEVENT
UID:pretix-baeder-grossfeldsiedlung-6393@ticket.wien.gv.at
DTSTART;VALUE=DATE:20210821
DTEND;VALUE=DATE:20210822
DESCRIPTION:Tickets: https://ticket.wien.gv.at/baeder/grossfeldsiedlung/639
 3/\nVeranstalter: MA 44 Wiener Bäder
DTSTAMP:20260425T201036Z
SUMMARY:Eintritt Großfeldsiedlungsbad
END:VEVENT
END:VCALENDAR
