BEGIN:VCALENDAR
VERSION:2.0
PRODID:-//pretix//pretix-PROD_Wien//
BEGIN:VEVENT
UID:pretix-baeder-grossfeldsiedlung-6285@ticket.wien.gv.at
DTSTART;VALUE=DATE:20210816
DTEND;VALUE=DATE:20210817
DESCRIPTION:Tickets: https://ticket.wien.gv.at/baeder/grossfeldsiedlung/628
 5/\nVeranstalter: MA 44 Wiener Bäder
DTSTAMP:20260425T170829Z
SUMMARY:Eintritt Großfeldsiedlungsbad
END:VEVENT
END:VCALENDAR
