BEGIN:VCALENDAR
VERSION:2.0
PRODID:-//pretix//pretix-PROD_Wien//
BEGIN:VEVENT
UID:pretix-baeder-grossfeldsiedlung-6152@ticket.wien.gv.at
DTSTART;VALUE=DATE:20210810
DTEND;VALUE=DATE:20210811
DESCRIPTION:Tickets: https://ticket.wien.gv.at/baeder/grossfeldsiedlung/615
 2/\nVeranstalter: MA 44 Wiener Bäder
DTSTAMP:20260426T000053Z
SUMMARY:Eintritt Großfeldsiedlungsbad
END:VEVENT
END:VCALENDAR
