BEGIN:VCALENDAR
VERSION:2.0
PRODID:-//pretix//pretix-PROD_Wien//
BEGIN:VEVENT
UID:pretix-baeder-grossfeldsiedlung-5821@ticket.wien.gv.at
DTSTART;VALUE=DATE:20210726
DTEND;VALUE=DATE:20210727
DESCRIPTION:Tickets: https://ticket.wien.gv.at/baeder/grossfeldsiedlung/582
 1/\nVeranstalter: MA 44 Wiener Bäder
DTSTAMP:20260425T215827Z
SUMMARY:Eintritt Großfeldsiedlungsbad
END:VEVENT
END:VCALENDAR
