BEGIN:VCALENDAR
VERSION:2.0
PRODID:-//pretix//pretix-PROD_Wien//
BEGIN:VEVENT
UID:pretix-baeder-grossfeldsiedlung-5736@ticket.wien.gv.at
DTSTART;VALUE=DATE:20210722
DTEND;VALUE=DATE:20210723
DESCRIPTION:Tickets: https://ticket.wien.gv.at/baeder/grossfeldsiedlung/573
 6/\nVeranstalter: MA 44 Wiener Bäder
DTSTAMP:20260425T185328Z
SUMMARY:Eintritt Großfeldsiedlungsbad
END:VEVENT
END:VCALENDAR
