BEGIN:VCALENDAR
VERSION:2.0
PRODID:-//pretix//pretix-PROD_Wien//
BEGIN:VEVENT
UID:pretix-baeder-grossfeldsiedlung-5713@ticket.wien.gv.at
DTSTART;VALUE=DATE:20210721
DTEND;VALUE=DATE:20210722
DESCRIPTION:Tickets: https://ticket.wien.gv.at/baeder/grossfeldsiedlung/571
 3/\nVeranstalter: MA 44 Wiener Bäder
DTSTAMP:20260425T170844Z
SUMMARY:Eintritt Großfeldsiedlungsbad
END:VEVENT
END:VCALENDAR
