BEGIN:VCALENDAR
VERSION:2.0
PRODID:-//pretix//pretix-PROD_Wien//
BEGIN:VEVENT
UID:pretix-baeder-grossfeldsiedlung-5669@ticket.wien.gv.at
DTSTART;VALUE=DATE:20210719
DTEND;VALUE=DATE:20210720
DESCRIPTION:Tickets: https://ticket.wien.gv.at/baeder/grossfeldsiedlung/566
 9/\nVeranstalter: MA 44 Wiener Bäder
DTSTAMP:20260425T183645Z
SUMMARY:Eintritt Großfeldsiedlungsbad
END:VEVENT
END:VCALENDAR
