BEGIN:VCALENDAR
VERSION:2.0
PRODID:-//pretix//pretix-PROD_Wien//
BEGIN:VEVENT
UID:pretix-baeder-grossfeldsiedlung-5647@ticket.wien.gv.at
DTSTART;VALUE=DATE:20210718
DTEND;VALUE=DATE:20210719
DESCRIPTION:Tickets: https://ticket.wien.gv.at/baeder/grossfeldsiedlung/564
 7/\nVeranstalter: MA 44 Wiener Bäder
DTSTAMP:20260425T183633Z
SUMMARY:Eintritt Großfeldsiedlungsbad
END:VEVENT
END:VCALENDAR
