BEGIN:VCALENDAR
VERSION:2.0
PRODID:-//pretix//pretix-PROD_Wien//
BEGIN:VEVENT
UID:pretix-baeder-grossfeldsiedlung-5491@ticket.wien.gv.at
DTSTART;VALUE=DATE:20210711
DTEND;VALUE=DATE:20210712
DESCRIPTION:Tickets: https://ticket.wien.gv.at/baeder/grossfeldsiedlung/549
 1/\nVeranstalter: MA 44 Wiener Bäder
DTSTAMP:20260425T170830Z
SUMMARY:Eintritt Großfeldsiedlungsbad
END:VEVENT
END:VCALENDAR
