BEGIN:VCALENDAR
VERSION:2.0
PRODID:-//pretix//pretix-PROD_Wien//
BEGIN:VEVENT
UID:pretix-baeder-grossfeldsiedlung-5402@ticket.wien.gv.at
DTSTART;VALUE=DATE:20210707
DTEND;VALUE=DATE:20210708
DESCRIPTION:Tickets: https://ticket.wien.gv.at/baeder/grossfeldsiedlung/540
 2/\nVeranstalter: MA 44 Wiener Bäder
DTSTAMP:20260425T185332Z
SUMMARY:Eintritt Großfeldsiedlungsbad
END:VEVENT
END:VCALENDAR
