BEGIN:VCALENDAR
VERSION:2.0
PRODID:-//pretix//pretix-PROD_Wien//
BEGIN:VEVENT
UID:pretix-baeder-grossfeldsiedlung-5228@ticket.wien.gv.at
DTSTART;VALUE=DATE:20210629
DTEND;VALUE=DATE:20210630
DESCRIPTION:Tickets: https://ticket.wien.gv.at/baeder/grossfeldsiedlung/522
 8/\nVeranstalter: MA 44 Wiener Bäder
DTSTAMP:20260425T183634Z
SUMMARY:Eintritt Großfeldsiedlungsbad
END:VEVENT
END:VCALENDAR
