BEGIN:VCALENDAR
VERSION:2.0
PRODID:-//pretix//pretix-PROD_Wien//
BEGIN:VEVENT
UID:pretix-baeder-grossfeldsiedlung-5006@ticket.wien.gv.at
DTSTART;VALUE=DATE:20210619
DTEND;VALUE=DATE:20210620
DESCRIPTION:Tickets: https://ticket.wien.gv.at/baeder/grossfeldsiedlung/500
 6/\nVeranstalter: MA 44 Wiener Bäder
DTSTAMP:20260425T185322Z
SUMMARY:Eintritt Großfeldsiedlungsbad
END:VEVENT
END:VCALENDAR
