BEGIN:VCALENDAR
VERSION:2.0
PRODID:-//pretix//pretix-PROD_Wien//
BEGIN:VEVENT
UID:pretix-baeder-grossfeldsiedlung-4875@ticket.wien.gv.at
DTSTART;VALUE=DATE:20210613
DTEND;VALUE=DATE:20210614
DESCRIPTION:Tickets: https://ticket.wien.gv.at/baeder/grossfeldsiedlung/487
 5/\nVeranstalter: MA 44 Wiener Bäder
DTSTAMP:20260425T173527Z
SUMMARY:Eintritt Großfeldsiedlungsbad
END:VEVENT
END:VCALENDAR
