BEGIN:VCALENDAR
VERSION:2.0
PRODID:-//pretix//pretix-PROD_Wien//
BEGIN:VEVENT
UID:pretix-baeder-grossfeldsiedlung-4851@ticket.wien.gv.at
DTSTART;VALUE=DATE:20210612
DTEND;VALUE=DATE:20210613
DESCRIPTION:Tickets: https://ticket.wien.gv.at/baeder/grossfeldsiedlung/485
 1/\nVeranstalter: MA 44 Wiener Bäder
DTSTAMP:20260425T165215Z
SUMMARY:Eintritt Großfeldsiedlungsbad
END:VEVENT
END:VCALENDAR
