BEGIN:VCALENDAR
VERSION:2.0
PRODID:-//pretix//pretix-PROD_Wien//
BEGIN:VEVENT
UID:pretix-baeder-grossfeldsiedlung-4810@ticket.wien.gv.at
DTSTART;VALUE=DATE:20210610
DTEND;VALUE=DATE:20210611
DESCRIPTION:Tickets: https://ticket.wien.gv.at/baeder/grossfeldsiedlung/481
 0/\nVeranstalter: MA 44 Wiener Bäder
DTSTAMP:20260425T170824Z
SUMMARY:Eintritt Großfeldsiedlungsbad
END:VEVENT
END:VCALENDAR
